Package: clustComp Version: 1.37.0 Command: /home/biocbuild/bbs-3.22-bioc/R/bin/R CMD check --install=check:clustComp.install-out.txt --library=/home/biocbuild/bbs-3.22-bioc/R/site-library --timings clustComp_1.37.0.tar.gz StartedAt: 2025-10-24 22:15:50 -0400 (Fri, 24 Oct 2025) EndedAt: 2025-10-24 22:17:05 -0400 (Fri, 24 Oct 2025) EllapsedTime: 75.1 seconds RetCode: 0 Status: OK CheckDir: clustComp.Rcheck Warnings: 0