Package: clustComp Version: 1.37.0 Command: /Library/Frameworks/R.framework/Resources/bin/R CMD INSTALL clustComp StartedAt: 2025-10-27 15:02:37 -0400 (Mon, 27 Oct 2025) EndedAt: 2025-10-27 15:02:51 -0400 (Mon, 27 Oct 2025) EllapsedTime: 13.3 seconds RetCode: 0 Status: OK