Package: clustComp Version: 1.37.0 Command: /Library/Frameworks/R.framework/Resources/bin/R CMD INSTALL clustComp StartedAt: 2025-10-24 15:04:00 -0400 (Fri, 24 Oct 2025) EndedAt: 2025-10-24 15:04:04 -0400 (Fri, 24 Oct 2025) EllapsedTime: 4.0 seconds RetCode: 0 Status: OK