Package: clstutils Version: 1.57.0 Command: /Library/Frameworks/R.framework/Resources/bin/R CMD INSTALL clstutils StartedAt: 2025-10-27 15:08:02 -0400 (Mon, 27 Oct 2025) EndedAt: 2025-10-27 15:08:51 -0400 (Mon, 27 Oct 2025) EllapsedTime: 49.2 seconds RetCode: 0 Status: OK