Package: clstutils Version: 1.57.0 Command: /Library/Frameworks/R.framework/Resources/bin/R CMD build --keep-empty-dirs --no-resave-data clstutils StartedAt: 2025-10-27 16:25:06 -0400 (Mon, 27 Oct 2025) EndedAt: 2025-10-27 16:25:31 -0400 (Mon, 27 Oct 2025) EllapsedTime: 25.1 seconds RetCode: 0 Status: OK PackageFile: clstutils_1.57.0.tar.gz PackageFileSize: 2.694 MiB