Package: clstutils Version: 1.57.0 Command: /Library/Frameworks/R.framework/Resources/bin/R CMD INSTALL clstutils StartedAt: 2025-10-24 15:06:39 -0400 (Fri, 24 Oct 2025) EndedAt: 2025-10-24 15:06:57 -0400 (Fri, 24 Oct 2025) EllapsedTime: 18.4 seconds RetCode: 0 Status: OK