Package: clstutils Version: 1.57.0 Command: rm -rf clstutils.buildbin-libdir && mkdir clstutils.buildbin-libdir && /Users/biocbuild/BBS/utils/build-universal.sh clstutils_1.57.0.tar.gz /Library/Frameworks/R.framework/Resources/bin/R clstutils.buildbin-libdir StartedAt: 2025-10-24 22:58:00 -0400 (Fri, 24 Oct 2025) EndedAt: 2025-10-24 22:58:03 -0400 (Fri, 24 Oct 2025) EllapsedTime: 3.0 seconds RetCode: 0 Status: OK PackageFile: clstutils_1.57.0.tgz PackageFileSize: 2.728 MiB