Package: clstutils Version: 1.58.0 Maintainer: Noah Hoffman MaintainerEmail: ngh2 at uw.edu git_url: https://git.bioconductor.org/packages/clstutils git_branch: RELEASE_3_22 git_last_commit: a286166 git_last_commit_date: 2025-10-29 10:06:51 -0400 (Wed, 29 Oct 2025)