Package: cliqueMS Version: 1.24.0 Command: rm -rf cliqueMS.buildbin-libdir && mkdir cliqueMS.buildbin-libdir && /Users/biocbuild/BBS/utils/build-universal.sh cliqueMS_1.24.0.tar.gz /Library/Frameworks/R.framework/Resources/bin/R cliqueMS.buildbin-libdir StartedAt: 2025-11-10 23:15:04 -0500 (Mon, 10 Nov 2025) EndedAt: 2025-11-10 23:15:30 -0500 (Mon, 10 Nov 2025) EllapsedTime: 26.5 seconds RetCode: 0 Status: OK PackageFile: cliqueMS_1.24.0.tgz PackageFileSize: 1.032 MiB