Package: clipper Version: 1.49.0 Command: /home/biocbuild/bbs-3.22-bioc/R/bin/R CMD INSTALL clipper StartedAt: 2025-10-24 15:55:14 -0400 (Fri, 24 Oct 2025) EndedAt: 2025-10-24 15:55:52 -0400 (Fri, 24 Oct 2025) EllapsedTime: 38.1 seconds RetCode: 0 Status: OK