Package: clipper Version: 1.49.0 Command: /home/biocbuild/bbs-3.22-bioc/R/bin/R CMD build --keep-empty-dirs --no-resave-data --md5 clipper StartedAt: 2025-10-24 17:01:30 -0400 (Fri, 24 Oct 2025) EndedAt: 2025-10-24 17:02:42 -0400 (Fri, 24 Oct 2025) EllapsedTime: 71.1 seconds RetCode: 0 Status: OK PackageFile: clipper_1.49.0.tar.gz PackageFileSize: 1008 KiB