Package: clipper Version: 1.50.0 Command: /Library/Frameworks/R.framework/Resources/bin/R CMD INSTALL clipper StartedAt: 2025-11-10 15:23:11 -0500 (Mon, 10 Nov 2025) EndedAt: 2025-11-10 15:23:27 -0500 (Mon, 10 Nov 2025) EllapsedTime: 16.5 seconds RetCode: 0 Status: OK