Package: clipper Version: 1.50.0 Command: rm -rf clipper.buildbin-libdir && mkdir clipper.buildbin-libdir && /Users/biocbuild/BBS/utils/build-universal.sh clipper_1.50.0.tar.gz /Library/Frameworks/R.framework/Resources/bin/R clipper.buildbin-libdir StartedAt: 2025-11-10 23:15:03 -0500 (Mon, 10 Nov 2025) EndedAt: 2025-11-10 23:15:20 -0500 (Mon, 10 Nov 2025) EllapsedTime: 17.3 seconds RetCode: 0 Status: OK PackageFile: clipper_1.50.0.tgz PackageFileSize: 715.4 KiB