Package: clippda Version: 1.59.0 Command: /home/biocbuild/bbs-3.22-bioc/R/bin/R CMD build --keep-empty-dirs --no-resave-data --md5 clippda StartedAt: 2025-10-24 17:01:25 -0400 (Fri, 24 Oct 2025) EndedAt: 2025-10-24 17:02:44 -0400 (Fri, 24 Oct 2025) EllapsedTime: 78.1 seconds RetCode: 0 Status: OK PackageFile: clippda_1.59.0.tar.gz PackageFileSize: 1.498 MiB