Package: cliProfiler Version: 1.15.0 Command: /Library/Frameworks/R.framework/Resources/bin/R CMD build --keep-empty-dirs --no-resave-data cliProfiler StartedAt: 2025-10-24 16:33:57 -0400 (Fri, 24 Oct 2025) EndedAt: 2025-10-24 16:35:21 -0400 (Fri, 24 Oct 2025) EllapsedTime: 83.4 seconds RetCode: 0 Status: OK PackageFile: cliProfiler_1.15.0.tar.gz PackageFileSize: 1.284 MiB