Package: cleaver Version: 1.47.1 Command: /home/biocbuild/bbs-3.22-bioc/R/bin/R CMD INSTALL cleaver StartedAt: 2025-10-27 15:26:39 -0400 (Mon, 27 Oct 2025) EndedAt: 2025-10-27 15:26:47 -0400 (Mon, 27 Oct 2025) EllapsedTime: 8.4 seconds RetCode: 0 Status: OK