Package: cleaver Version: 1.47.1 Command: /home/biocbuild/bbs-3.22-bioc/R/bin/R CMD build --keep-empty-dirs --no-resave-data --md5 cleaver StartedAt: 2025-10-27 16:52:50 -0400 (Mon, 27 Oct 2025) EndedAt: 2025-10-27 16:53:08 -0400 (Mon, 27 Oct 2025) EllapsedTime: 18.0 seconds RetCode: 0 Status: OK PackageFile: cleaver_1.47.1.tar.gz PackageFileSize: 345.5 KiB