Package: cleanUpdTSeq Version: 1.48.0 Command: /home/biocbuild/R/R/bin/R CMD INSTALL cleanUpdTSeq StartedAt: 2025-11-20 22:26:44 -0000 (Thu, 20 Nov 2025) EndedAt: 2025-11-20 22:28:22 -0000 (Thu, 20 Nov 2025) EllapsedTime: 97.7 seconds RetCode: 0 Status: OK