Package: cleanUpdTSeq Version: 1.48.0 Command: /home/biocbuild/R/R/bin/R CMD build --keep-empty-dirs --no-resave-data cleanUpdTSeq StartedAt: 2025-11-25 00:32:22 -0000 (Tue, 25 Nov 2025) EndedAt: 2025-11-25 00:34:26 -0000 (Tue, 25 Nov 2025) EllapsedTime: 124.1 seconds RetCode: 0 Status: OK PackageFile: cleanUpdTSeq_1.48.0.tar.gz PackageFileSize: 4.034 MiB