Package: cleanUpdTSeq Version: 1.47.1 Command: /home/biocbuild/bbs-3.22-bioc/R/bin/R CMD INSTALL cleanUpdTSeq StartedAt: 2025-10-24 15:44:54 -0400 (Fri, 24 Oct 2025) EndedAt: 2025-10-24 15:45:56 -0400 (Fri, 24 Oct 2025) EllapsedTime: 61.8 seconds RetCode: 0 Status: OK