Package: cleanUpdTSeq Version: 1.47.1 Command: /home/biocbuild/bbs-3.22-bioc/R/bin/R CMD check --install=check:cleanUpdTSeq.install-out.txt --library=/home/biocbuild/bbs-3.22-bioc/R/site-library --timings cleanUpdTSeq_1.47.1.tar.gz StartedAt: 2025-10-24 22:14:01 -0400 (Fri, 24 Oct 2025) EndedAt: 2025-10-24 22:18:50 -0400 (Fri, 24 Oct 2025) EllapsedTime: 288.3 seconds RetCode: 0 Status: OK CheckDir: cleanUpdTSeq.Rcheck Warnings: 0