Package: cleanUpdTSeq Version: 1.47.1 Command: /Library/Frameworks/R.framework/Resources/bin/R CMD INSTALL cleanUpdTSeq StartedAt: 2025-10-24 15:40:14 -0400 (Fri, 24 Oct 2025) EndedAt: 2025-10-24 15:42:15 -0400 (Fri, 24 Oct 2025) EllapsedTime: 121.0 seconds RetCode: 0 Status: OK