Package: cleanUpdTSeq Version: 1.47.1 Command: /Library/Frameworks/R.framework/Resources/bin/R CMD build --keep-empty-dirs --no-resave-data cleanUpdTSeq StartedAt: 2025-10-24 16:33:17 -0400 (Fri, 24 Oct 2025) EndedAt: 2025-10-24 16:35:10 -0400 (Fri, 24 Oct 2025) EllapsedTime: 113.0 seconds RetCode: 0 Status: OK PackageFile: cleanUpdTSeq_1.47.1.tar.gz PackageFileSize: 4.008 MiB