Package: cleanUpdTSeq Version: 1.47.1 Command: rm -rf cleanUpdTSeq.buildbin-libdir && mkdir cleanUpdTSeq.buildbin-libdir && /Users/biocbuild/BBS/utils/build-universal.sh cleanUpdTSeq_1.47.1.tar.gz /Library/Frameworks/R.framework/Resources/bin/R cleanUpdTSeq.buildbin-libdir StartedAt: 2025-10-25 01:33:03 -0400 (Sat, 25 Oct 2025) EndedAt: 2025-10-25 01:35:09 -0400 (Sat, 25 Oct 2025) EllapsedTime: 126.2 seconds RetCode: 0 Status: OK PackageFile: cleanUpdTSeq_1.47.1.tgz PackageFileSize: 5.87 MiB