Package: cisPath Version: 1.50.0 Command: /home/biocbuild/R/R/bin/R CMD INSTALL cisPath StartedAt: 2025-11-24 21:02:40 -0000 (Mon, 24 Nov 2025) EndedAt: 2025-11-24 21:02:57 -0000 (Mon, 24 Nov 2025) EllapsedTime: 16.6 seconds RetCode: 1 Status: ERROR