Package: cisPath Version: 1.49.1 Command: /home/biocbuild/bbs-3.22-bioc/R/bin/R CMD INSTALL cisPath StartedAt: 2025-10-24 15:12:52 -0400 (Fri, 24 Oct 2025) EndedAt: 2025-10-24 15:13:04 -0400 (Fri, 24 Oct 2025) EllapsedTime: 11.7 seconds RetCode: 1 Status: ERROR