Package: cisPath Version: 1.49.1 Command: /home/biocbuild/bbs-3.22-bioc/R/bin/R CMD build --keep-empty-dirs --no-resave-data --md5 cisPath StartedAt: 2025-10-24 17:00:43 -0400 (Fri, 24 Oct 2025) EndedAt: 2025-10-24 17:00:53 -0400 (Fri, 24 Oct 2025) EllapsedTime: 10.0 seconds RetCode: 1 Status: ERROR PackageFile: None PackageFileSize: NA