Package: cisPath Version: 1.49.1 Command: /Library/Frameworks/R.framework/Resources/bin/R CMD INSTALL cisPath StartedAt: 2025-10-24 15:12:27 -0400 (Fri, 24 Oct 2025) EndedAt: 2025-10-24 15:12:48 -0400 (Fri, 24 Oct 2025) EllapsedTime: 20.7 seconds RetCode: 1 Status: ERROR