Package: circRNAprofiler Version: 1.23.1 Command: /home/biocbuild/bbs-3.22-bioc/R/bin/R CMD INSTALL circRNAprofiler StartedAt: 2025-10-24 15:51:55 -0400 (Fri, 24 Oct 2025) EndedAt: 2025-10-24 15:52:48 -0400 (Fri, 24 Oct 2025) EllapsedTime: 52.9 seconds RetCode: 0 Status: OK