Package: circRNAprofiler Version: 1.23.1 Command: /home/biocbuild/bbs-3.22-bioc/R/bin/R CMD build --keep-empty-dirs --no-resave-data --md5 circRNAprofiler StartedAt: 2025-10-24 17:00:26 -0400 (Fri, 24 Oct 2025) EndedAt: 2025-10-24 17:01:49 -0400 (Fri, 24 Oct 2025) EllapsedTime: 83.1 seconds RetCode: 0 Status: OK PackageFile: circRNAprofiler_1.23.1.tar.gz PackageFileSize: 3.646 MiB