Package: circRNAprofiler Version: 1.24.0 Command: /Library/Frameworks/R.framework/Resources/bin/R CMD INSTALL circRNAprofiler StartedAt: 2025-11-10 15:21:13 -0500 (Mon, 10 Nov 2025) EndedAt: 2025-11-10 15:21:35 -0500 (Mon, 10 Nov 2025) EllapsedTime: 22.0 seconds RetCode: 0 Status: OK