Package: circRNAprofiler Version: 1.24.0 Command: rm -rf circRNAprofiler.buildbin-libdir && mkdir circRNAprofiler.buildbin-libdir && /Users/biocbuild/BBS/utils/build-universal.sh circRNAprofiler_1.24.0.tar.gz /Library/Frameworks/R.framework/Resources/bin/R circRNAprofiler.buildbin-libdir StartedAt: 2025-11-10 23:14:56 -0500 (Mon, 10 Nov 2025) EndedAt: 2025-11-10 23:15:19 -0500 (Mon, 10 Nov 2025) EllapsedTime: 23.4 seconds RetCode: 0 Status: OK PackageFile: circRNAprofiler_1.24.0.tgz PackageFileSize: 3.558 MiB