Package: chromVAR Version: 1.31.1 Command: /home/biocbuild/bbs-3.22-bioc/R/bin/R CMD INSTALL chromVAR StartedAt: 2025-10-27 15:54:12 -0400 (Mon, 27 Oct 2025) EndedAt: 2025-10-27 15:55:18 -0400 (Mon, 27 Oct 2025) EllapsedTime: 65.0 seconds RetCode: 0 Status: OK