Package: chromVAR Version: 1.31.1 Command: /home/biocbuild/bbs-3.22-bioc/R/bin/R CMD build --keep-empty-dirs --no-resave-data --md5 chromVAR StartedAt: 2025-10-24 16:59:50 -0400 (Fri, 24 Oct 2025) EndedAt: 2025-10-24 17:02:18 -0400 (Fri, 24 Oct 2025) EllapsedTime: 148.1 seconds RetCode: 0 Status: OK PackageFile: chromVAR_1.31.1.tar.gz PackageFileSize: 486.8 KiB