Package: chromPlot Version: 1.37.0 Command: /home/biocbuild/bbs-3.22-bioc/R/bin/R CMD INSTALL chromPlot StartedAt: 2025-10-24 16:09:45 -0400 (Fri, 24 Oct 2025) EndedAt: 2025-10-24 16:10:00 -0400 (Fri, 24 Oct 2025) EllapsedTime: 15.4 seconds RetCode: 0 Status: OK