Package: chromPlot Version: 1.37.0 Command: /Library/Frameworks/R.framework/Resources/bin/R CMD INSTALL chromPlot StartedAt: 2025-10-27 15:46:20 -0400 (Mon, 27 Oct 2025) EndedAt: 2025-10-27 15:46:43 -0400 (Mon, 27 Oct 2025) EllapsedTime: 23.0 seconds RetCode: 0 Status: OK