Package: chromPlot Version: 1.37.0 Command: /Library/Frameworks/R.framework/Resources/bin/R CMD INSTALL chromPlot StartedAt: 2025-10-24 15:34:13 -0400 (Fri, 24 Oct 2025) EndedAt: 2025-10-24 15:34:20 -0400 (Fri, 24 Oct 2025) EllapsedTime: 6.3 seconds RetCode: 0 Status: OK