Package: chromPlot Version: 1.37.0 Command: /Library/Frameworks/R.framework/Resources/bin/R CMD build --keep-empty-dirs --no-resave-data chromPlot StartedAt: 2025-10-24 15:58:41 -0400 (Fri, 24 Oct 2025) EndedAt: 2025-10-24 15:59:03 -0400 (Fri, 24 Oct 2025) EllapsedTime: 21.3 seconds RetCode: 0 Status: OK PackageFile: chromPlot_1.37.0.tar.gz PackageFileSize: 1.522 MiB