Package: chromPlot Version: 1.37.0 Command: rm -rf chromPlot.buildbin-libdir && mkdir chromPlot.buildbin-libdir && /Users/biocbuild/BBS/utils/build-universal.sh chromPlot_1.37.0.tar.gz /Library/Frameworks/R.framework/Resources/bin/R chromPlot.buildbin-libdir StartedAt: 2025-10-24 22:57:42 -0400 (Fri, 24 Oct 2025) EndedAt: 2025-10-24 22:57:49 -0400 (Fri, 24 Oct 2025) EllapsedTime: 7.2 seconds RetCode: 0 Status: OK PackageFile: chromPlot_1.37.0.tgz PackageFileSize: 1.598 MiB