Package: chromDraw Version: 2.40.0 Command: /Library/Frameworks/R.framework/Resources/bin/R CMD INSTALL chromDraw StartedAt: 2025-11-03 15:11:02 -0500 (Mon, 03 Nov 2025) EndedAt: 2025-11-03 15:11:17 -0500 (Mon, 03 Nov 2025) EllapsedTime: 14.2 seconds RetCode: 0 Status: OK