Package: chromDraw Version: 2.40.0 Command: /Library/Frameworks/R.framework/Resources/bin/R CMD build --keep-empty-dirs --no-resave-data chromDraw StartedAt: 2025-11-02 15:55:49 -0500 (Sun, 02 Nov 2025) EndedAt: 2025-11-02 15:56:12 -0500 (Sun, 02 Nov 2025) EllapsedTime: 23.2 seconds RetCode: 0 Status: OK PackageFile: chromDraw_2.40.0.tar.gz PackageFileSize: 2.228 MiB