Package: chopsticks Version: 1.75.0 Command: /home/biocbuild/bbs-3.22-bioc/R/bin/R CMD build --keep-empty-dirs --no-resave-data --md5 chopsticks StartedAt: 2025-10-24 16:59:00 -0400 (Fri, 24 Oct 2025) EndedAt: 2025-10-24 16:59:25 -0400 (Fri, 24 Oct 2025) EllapsedTime: 25.0 seconds RetCode: 0 Status: OK PackageFile: chopsticks_1.75.0.tar.gz PackageFileSize: 6.647 MiB