Package: chipseq Version: 1.60.0 Command: /Library/Frameworks/R.framework/Resources/bin/R CMD build --keep-empty-dirs --no-resave-data chipseq StartedAt: 2025-11-03 16:27:26 -0500 (Mon, 03 Nov 2025) EndedAt: 2025-11-03 16:30:10 -0500 (Mon, 03 Nov 2025) EllapsedTime: 164.3 seconds RetCode: 0 Status: OK PackageFile: chipseq_1.60.0.tar.gz PackageFileSize: 2.42 MiB