Package: chipseq Version: 1.59.0 Command: /Library/Frameworks/R.framework/Resources/bin/R CMD INSTALL chipseq StartedAt: 2025-10-24 15:30:48 -0400 (Fri, 24 Oct 2025) EndedAt: 2025-10-24 15:31:01 -0400 (Fri, 24 Oct 2025) EllapsedTime: 12.7 seconds RetCode: 0 Status: OK