Package: chipseq Version: 1.59.0 Command: /Library/Frameworks/R.framework/Resources/bin/R CMD build --keep-empty-dirs --no-resave-data chipseq StartedAt: 2025-10-24 15:58:06 -0400 (Fri, 24 Oct 2025) EndedAt: 2025-10-24 15:59:24 -0400 (Fri, 24 Oct 2025) EllapsedTime: 77.9 seconds RetCode: 0 Status: OK PackageFile: chipseq_1.59.0.tar.gz PackageFileSize: 2.434 MiB