Package: chimeraviz Version: 1.36.0 Command: /home/biocbuild/bbs-3.22-bioc/R/bin/R CMD check --install=check:chimeraviz.install-out.txt --library=/home/biocbuild/bbs-3.22-bioc/R/site-library --timings chimeraviz_1.36.0.tar.gz StartedAt: 2025-10-30 21:59:12 -0400 (Thu, 30 Oct 2025) EndedAt: 2025-10-30 22:11:53 -0400 (Thu, 30 Oct 2025) EllapsedTime: 760.8 seconds RetCode: 0 Status: OK CheckDir: chimeraviz.Rcheck Warnings: 0