Package: chimeraviz Version: 1.35.0 Command: /Library/Frameworks/R.framework/Resources/bin/R CMD INSTALL chimeraviz StartedAt: 2025-10-24 15:50:55 -0400 (Fri, 24 Oct 2025) EndedAt: 2025-10-24 15:52:13 -0400 (Fri, 24 Oct 2025) EllapsedTime: 78.1 seconds RetCode: 0 Status: OK