Package: chimeraviz Version: 1.35.0 Command: /Library/Frameworks/R.framework/Resources/bin/R CMD build --keep-empty-dirs --no-resave-data chimeraviz StartedAt: 2025-10-24 16:30:34 -0400 (Fri, 24 Oct 2025) EndedAt: 2025-10-24 16:34:28 -0400 (Fri, 24 Oct 2025) EllapsedTime: 233.9 seconds RetCode: 0 Status: OK PackageFile: chimeraviz_1.35.0.tar.gz PackageFileSize: 4.108 MiB