Package: chimeraviz Version: 1.35.0 Command: rm -rf chimeraviz.buildbin-libdir && mkdir chimeraviz.buildbin-libdir && /Users/biocbuild/BBS/utils/build-universal.sh chimeraviz_1.35.0.tar.gz /Library/Frameworks/R.framework/Resources/bin/R chimeraviz.buildbin-libdir StartedAt: 2025-10-25 01:32:21 -0400 (Sat, 25 Oct 2025) EndedAt: 2025-10-25 01:33:42 -0400 (Sat, 25 Oct 2025) EllapsedTime: 81.0 seconds RetCode: 0 Status: OK PackageFile: chimeraviz_1.35.0.tgz PackageFileSize: 4.717 MiB