Package: chimeraviz Version: 1.35.0 Command: /Library/Frameworks/R.framework/Resources/bin/R CMD build --keep-empty-dirs --no-resave-data chimeraviz StartedAt: 2025-10-26 15:55:43 -0400 (Sun, 26 Oct 2025) EndedAt: 2025-10-26 15:56:53 -0400 (Sun, 26 Oct 2025) EllapsedTime: 69.8 seconds RetCode: 0 Status: OK PackageFile: chimeraviz_1.35.0.tar.gz PackageFileSize: 4.11 MiB